BEGIN:VCALENDAR
VERSION:2.0
PRODID:-//wp-events-plugin.com//7.2.3.1//EN
BEGIN:VEVENT
UID:1465@beechacres.org
DTSTART;TZID=America/New_York:20260521T183000
DTEND;TZID=America/New_York:20260521T193000
DTSTAMP:20260224T203322Z
URL:https://beechacres.org/events/ongoing-training-rules-policies-virtual-
 2/
SUMMARY:Ongoing Training: Rules & Policies (virtual)
DESCRIPTION:Foster Parents will review the Ohio rules and Beech Acres polic
 ies for foster and kinship care providers.\nPlease reserve one ticket per 
 attendee. This meeting will be conducted via Zoom.
CATEGORIES:Foster Care Training,Yes - Show me Ongoing Classes
END:VEVENT
BEGIN:VTIMEZONE
TZID:America/New_York
X-LIC-LOCATION:America/New_York
BEGIN:DAYLIGHT
DTSTART:20260308T030000
TZOFFSETFROM:-0500
TZOFFSETTO:-0400
TZNAME:EDT
END:DAYLIGHT
END:VTIMEZONE
END:VCALENDAR