BEGIN:VCALENDAR
VERSION:2.0
PRODID:-//wp-events-plugin.com//7.2.3.1//EN
BEGIN:VEVENT
UID:1456@beechacres.org
DTSTART;TZID=America/Kentucky/Louisville:20260502T090000
DTEND;TZID=America/Kentucky/Louisville:20260502T120000
DTSTAMP:20260311T211204Z
URL:https://beechacres.org/events/preservice-module-5-discipline-foundatio
 ns-permanency-in-person-4/
SUMMARY:Preservice Module 5: Discipline Foundations & Permanency (IN PERSON
 )
DESCRIPTION:**This training is currently scheduled as an IN PERSON training
  at our main office\, 615 Elsinore Place\, Cincinnati\, OH**\nThis class h
 elps participants identify the knowledge and skills needed to effectively 
 use discipline strategies\, identify components of an effective approach t
 o discipline\, and identify three elements of an effective discipline stra
 tegy. We will also explore de-escalation strategies. The latter part of th
 e training will review legal permanency options for the child and help to 
 describe your role in supporting permanency goals.\n**This training is cur
 rently scheduled as an IN PERSON training. Times\, dates\, and location ar
 e subject to change.  If registration has closed or tickets are otherwise
  unavailable\, please contact us at FCTraining@BeechAcres.org for more inf
 ormation.**
CATEGORIES:No - Show me Preservice Classes
LOCATION:Beech Acres Parenting Center\, 615 Elsinore Place\, Suite 500\, Ci
 ncinnati\, OH\, 45202\, United States
X-APPLE-STRUCTURED-LOCATION;VALUE=URI;X-ADDRESS=615 Elsinore Place\, Suite 
 500\, Cincinnati\, OH\, 45202\, United States;X-APPLE-RADIUS=100;X-TITLE=B
 eech Acres Parenting Center:geo:0,0
END:VEVENT
BEGIN:VTIMEZONE
TZID:America/Kentucky/Louisville
X-LIC-LOCATION:America/Kentucky/Louisville
BEGIN:DAYLIGHT
DTSTART:20260308T030000
TZOFFSETFROM:-0500
TZOFFSETTO:-0400
TZNAME:EDT
END:DAYLIGHT
END:VTIMEZONE
END:VCALENDAR