BEGIN:VCALENDAR
VERSION:2.0
PRODID:-//wp-events-plugin.com//7.2.3.1//EN
BEGIN:VEVENT
UID:1458@beechacres.org
DTSTART;TZID=America/Kentucky/Louisville:20260516T090000
DTEND;TZID=America/Kentucky/Louisville:20260516T120000
DTSTAMP:20260311T193612Z
URL:https://beechacres.org/events/preservice-module-7-partnering-with-prim
 ary-families-maintaining-connections-in-person-5/
SUMMARY:Preservice Module 7: Partnering with Primary Families & Maintaining
  Connections (IN PERSON)
DESCRIPTION:**This training is currently scheduled as an IN PERSON training
  at our main office\, 615 Elsinore Place\, Cincinnati\, OH**\nThis module 
 helps learners understand their need to partner with the primary family fo
 r the child’s benefit. The importance of empathy is explored\, and learn
 ers consider child protection from the perspective of the primary family. 
 Participants will also learn to identify the C.A.R.E. guide as Ohio’s re
 commended best practice in co-parenting and reunification efforts. Lastly\
 , we will discuss how to support relationships with other important people
 \, including siblings.\n**This training is currently scheduled as an IN PE
 RSON training. Times\, dates\, and location are subject to change.  If re
 gistration has closed or tickets are otherwise unavailable\, please contac
 t us at FCTraining@BeechAcres.org for more information.**
CATEGORIES:No - Show me Preservice Classes
LOCATION:Beech Acres Parenting Center\, 615 Elsinore Place\, Suite 500\, Ci
 ncinnati\, OH\, 45202\, United States
X-APPLE-STRUCTURED-LOCATION;VALUE=URI;X-ADDRESS=615 Elsinore Place\, Suite 
 500\, Cincinnati\, OH\, 45202\, United States;X-APPLE-RADIUS=100;X-TITLE=B
 eech Acres Parenting Center:geo:0,0
END:VEVENT
BEGIN:VTIMEZONE
TZID:America/Kentucky/Louisville
X-LIC-LOCATION:America/Kentucky/Louisville
BEGIN:DAYLIGHT
DTSTART:20260308T030000
TZOFFSETFROM:-0500
TZOFFSETTO:-0400
TZNAME:EDT
END:DAYLIGHT
END:VTIMEZONE
END:VCALENDAR